BEGIN:VCALENDAR
VERSION:2.0
PRODID:-//Kat Janowicz - ECPv6.3.5//NONSGML v1.0//EN
CALSCALE:GREGORIAN
METHOD:PUBLISH
X-ORIGINAL-URL:https://katjanowicz.com
X-WR-CALDESC:Events for Kat Janowicz
REFRESH-INTERVAL;VALUE=DURATION:PT1H
X-Robots-Tag:noindex
X-PUBLISHED-TTL:PT1H
BEGIN:VTIMEZONE
TZID:America/Denver
BEGIN:DAYLIGHT
TZOFFSETFROM:-0700
TZOFFSETTO:-0600
TZNAME:MDT
DTSTART:20240310T090000
END:DAYLIGHT
BEGIN:STANDARD
TZOFFSETFROM:-0600
TZOFFSETTO:-0700
TZNAME:MST
DTSTART:20241103T080000
END:STANDARD
END:VTIMEZONE
BEGIN:VEVENT
DTSTART;TZID=America/Denver:20241024T080000
DTEND;TZID=America/Denver:20241025T170000
DTSTAMP:20260425T050710
CREATED:20241022T153756Z
LAST-MODIFIED:20241022T153756Z
UID:4863-1729756800-1729875600@katjanowicz.com
SUMMARY:APSN Forum on Green Shipping Corridors
DESCRIPTION:Kat will be speaking at the APSN Forum on Green Shipping Corridors on October 24-25\, 2024\, in Kota Kinabalu\, Malaysia. She’ll offer insights on Green Shipping Corridors—a global movement to decarbonize ocean shipping by creating net zero maritime routes between ports. We’ll explore key trends\, real-world examples\, and how these corridors are reshaping the shipping industry. \nThis event\, hosted by the APEC Port Services Network (APSN)\, brings together leaders from APEC economies to drive sustainable growth across the Asia-Pacific. \nLooking forward to the discussions and connections ahead! Hope to see some of you there—come find Kat!
URL:https://katjanowicz.com/event/apsn-forum-on-green-shipping-corridors/
LOCATION:Le Meridien Hotel\, Jalan Tun Fuad Stephens\, Sinsuran\, Kota Kinabalu\, 88000\, Malaysia
ATTACH;FMTTYPE=image/png:https://katjanowicz.com/wp-content/uploads/2024/10/hotel.png
END:VEVENT
END:VCALENDAR