BEGIN:VCALENDAR
VERSION:2.0
PRODID:-//Kat Janowicz - ECPv6.3.5//NONSGML v1.0//EN
CALSCALE:GREGORIAN
METHOD:PUBLISH
X-WR-CALNAME:Kat Janowicz
X-ORIGINAL-URL:https://katjanowicz.com
X-WR-CALDESC:Events for Kat Janowicz
REFRESH-INTERVAL;VALUE=DURATION:PT1H
X-Robots-Tag:noindex
X-PUBLISHED-TTL:PT1H
BEGIN:VTIMEZONE
TZID:America/Denver
BEGIN:DAYLIGHT
TZOFFSETFROM:-0700
TZOFFSETTO:-0600
TZNAME:MDT
DTSTART:20230312T090000
END:DAYLIGHT
BEGIN:STANDARD
TZOFFSETFROM:-0600
TZOFFSETTO:-0700
TZNAME:MST
DTSTART:20231105T080000
END:STANDARD
TZID:America/Los_Angeles
BEGIN:DAYLIGHT
TZOFFSETFROM:-0800
TZOFFSETTO:-0700
TZNAME:PDT
DTSTART:20230312T100000
END:DAYLIGHT
BEGIN:STANDARD
TZOFFSETFROM:-0700
TZOFFSETTO:-0800
TZNAME:PST
DTSTART:20231105T090000
END:STANDARD
TZID:America/New_York
BEGIN:DAYLIGHT
TZOFFSETFROM:-0500
TZOFFSETTO:-0400
TZNAME:EDT
DTSTART:20230312T070000
END:DAYLIGHT
BEGIN:STANDARD
TZOFFSETFROM:-0400
TZOFFSETTO:-0500
TZNAME:EST
DTSTART:20231105T060000
END:STANDARD
END:VTIMEZONE
BEGIN:VEVENT
DTSTART;VALUE=DATE:20231022
DTEND;VALUE=DATE:20231026
DTSTAMP:20260424T070049
CREATED:20230926T201918Z
LAST-MODIFIED:20231113T050125Z
UID:4580-1697932800-1698278399@katjanowicz.com
SUMMARY:2023 AAPA Annual Convention and Expo
DESCRIPTION:2023 AAPA Annual Convention and Exp0\n\n \n  \nThe premier event for the seaport industry \nThe AAPA Annual Convention & Exposition is the premier gathering of port professionals\, terminal operators\, service providers\, and supply chain partners. \nIts leading-edge business program explores the latest trends\, and its dynamic exhibit hall showcases innovation solutions.
URL:https://katjanowicz.com/event/2023-aapa-annual-convention-and-expo/
LOCATION:Gaylord Rockies Resort & Convention Center\, 6700 N Gaylord Rockies Blvd\, Aurora\, CO\, 80019\, United States
CATEGORIES:Book Promotion,Speaking Engagement
ATTACH;FMTTYPE=image/jpeg:https://katjanowicz.com/wp-content/uploads/2023/09/audience-1.jpg
END:VEVENT
BEGIN:VEVENT
DTSTART;VALUE=DATE:20231023
DTEND;VALUE=DATE:20231027
DTSTAMP:20260424T070049
CREATED:20230927T195142Z
LAST-MODIFIED:20230928T003753Z
UID:4602-1698019200-1698364799@katjanowicz.com
SUMMARY:Cleantech Open 2023 Global Forum
DESCRIPTION:This year ClenTech Open convenes with VERGE 23 \nKeynote speaker at CTO Awards Ceremony and Luncheon on Thursday\, Oct 26 in Marriott Salons at 12 pm
URL:https://katjanowicz.com/event/cleantech-open-2023-global-forum/
LOCATION:Convention Center\, 150 W San Carlos S\, San Jose\, CA\, 95113\, United States
CATEGORIES:Book Promotion,Speaking Engagement
ATTACH;FMTTYPE=image/jpeg:https://katjanowicz.com/wp-content/uploads/2021/01/Kat-president-HAIC.jpg
END:VEVENT
BEGIN:VEVENT
DTSTART;VALUE=DATE:20231025
DTEND;VALUE=DATE:20231028
DTSTAMP:20260424T070049
CREATED:20230927T190338Z
LAST-MODIFIED:20230928T025629Z
UID:4584-1698192000-1698451199@katjanowicz.com
SUMMARY:AEE World Energy Conference & Expo
DESCRIPTION:Kat Janowicz speaking: Wed\, Oct 25 3:00 – 3:30 pm\nTrack L: Accelerating Community Pathways to Net Zero
URL:https://katjanowicz.com/event/a-reliable-resilient-path-to-decarbonization/
LOCATION:Orange County Convention Center\, South Hall B\, 9899 International Dr\, Orlando\, CA\, 32819\, United States
CATEGORIES:Book Promotion,Energy Conference & Expo,Speaking Engagement
ATTACH;FMTTYPE=image/jpeg:https://katjanowicz.com/wp-content/uploads/2021/01/Kat-president-HAIC.jpg
END:VEVENT
END:VCALENDAR